

BEGIN:VCALENDAR
VERSION:2.0
PRODID:-//UDC Suisse //NONSGML Events //EN
CALSCALE:GREGORIAN
X-WR-CALNAME:UDC Suisse
BEGIN:VEVENT
CREATED:20230714T080113Z
UID:117045
DTEND:20230801T140000
DTSTART:20230801T110000
DTSTAMP:20260421T004429Z
LOCATION:Schulhausplatz\, 5502 Hunzenschwil
DESCRIPTION:
SUMMARY:Fête du 1er août avec le conseiller aux Etats Alex Hürzeler
ORGANIZER:
URL;VALUE=URI:https://www.udc.ch/actualites/agenda/fete-du-1er-aout-avec-le-conseiller-aux-etats-alex-hurzeler/
TRANSP:OPAQUE
END:VEVENT
END:VCALENDAR
