

BEGIN:VCALENDAR
VERSION:2.0
PRODID:-//UDC Suisse //NONSGML Events //EN
CALSCALE:GREGORIAN
X-WR-CALNAME:UDC Suisse
BEGIN:VEVENT
CREATED:20230714T080113Z
UID:117046
DTEND:20230801T220000
DTSTART:20230801T180000
DTSTAMP:20260420T191528Z
LOCATION:Schloss Wildegg\, 5103 Möriken-Wildegg
DESCRIPTION:
SUMMARY:Fête du 1er août avec le conseiller aux Etats Alex Hürzeler
ORGANIZER:
URL;VALUE=URI:https://www.udc.ch/actualites/agenda/fete-du-1er-aout-avec-le-conseiller-aux-etats-alex-hurzeler-2/
TRANSP:OPAQUE
END:VEVENT
END:VCALENDAR
