

BEGIN:VCALENDAR
VERSION:2.0
PRODID:-//UDC Suisse //NONSGML Events //EN
CALSCALE:GREGORIAN
X-WR-CALNAME:UDC Suisse
BEGIN:VEVENT
CREATED:20230714T080113Z
UID:117047
DTEND:20230731T190000
DTSTART:20230731T183000
DTSTAMP:20260420T114608Z
LOCATION:Schulareal Waldegg\, 9542 Münchwilen
DESCRIPTION:
SUMMARY:Fête du 1er août avec la conseillère aux Etats Monika Knill
ORGANIZER:
URL;VALUE=URI:https://www.udc.ch/actualites/agenda/fete-du-1er-aout-avec-la-conseillere-aux-etats-monika-knill/
TRANSP:OPAQUE
END:VEVENT
END:VCALENDAR
