

BEGIN:VCALENDAR
VERSION:2.0
PRODID:-//UDC Suisse //NONSGML Events //EN
CALSCALE:GREGORIAN
X-WR-CALNAME:UDC Suisse
BEGIN:VEVENT
CREATED:20230714T080113Z
UID:117048
DTEND:20230801T200000
DTSTART:20230801T190000
DTSTAMP:20260421T112210Z
LOCATION:Schulanlage\, 8585 Langrickenbach
DESCRIPTION:
SUMMARY:Fête du 1er août avec la conseillère aux Etats Monika Knill
ORGANIZER:
URL;VALUE=URI:https://www.udc.ch/actualites/agenda/fete-du-1er-aout-avec-la-conseillere-aux-etats-monika-knill-2/
TRANSP:OPAQUE
END:VEVENT
END:VCALENDAR
