

BEGIN:VCALENDAR
VERSION:2.0
PRODID:-//UDC Suisse //NONSGML Events //EN
CALSCALE:GREGORIAN
X-WR-CALNAME:UDC Suisse
BEGIN:VEVENT
CREATED:20230714T080113Z
UID:117049
DTEND:20230801T200000
DTSTART:20230801T190000
DTSTAMP:20260420T114708Z
LOCATION:Dorfzentrum\, 8598 Bottighofen TG
DESCRIPTION:
SUMMARY:Fête du 1er août avec le conseiller aux Etats Urs Martin
ORGANIZER:
URL;VALUE=URI:https://www.udc.ch/actualites/agenda/fete-du-1er-aout-avec-le-conseiller-aux-etats-urs-martin/
TRANSP:OPAQUE
END:VEVENT
END:VCALENDAR
