

BEGIN:VCALENDAR
VERSION:2.0
PRODID:-//UDC Suisse //NONSGML Events //EN
CALSCALE:GREGORIAN
X-WR-CALNAME:UDC Suisse
BEGIN:VEVENT
CREATED:20230714T080113Z
UID:117050
DTEND:20230801T201500
DTSTART:20230801T193000
DTSTAMP:20260421T185551Z
LOCATION:Auslandschweizerplatz\, 6440 Brunnen
DESCRIPTION:
SUMMARY:Fête du 1er août avec le conseiller aux Etats André Rüegsegger
ORGANIZER:
URL;VALUE=URI:https://www.udc.ch/actualites/agenda/fete-du-1er-aout-avec-le-conseiller-aux-etats-andre-ruegsegger/
TRANSP:OPAQUE
END:VEVENT
END:VCALENDAR
