

BEGIN:VCALENDAR
VERSION:2.0
PRODID:-//UDC Suisse //NONSGML Events //EN
CALSCALE:GREGORIAN
X-WR-CALNAME:UDC Suisse
BEGIN:VEVENT
CREATED:20230714T080113Z
UID:117051
DTEND:20230731T180000
DTSTART:20230731T170000
DTSTAMP:20260421T042809Z
LOCATION:Kaufplatz\, 3930 Visp
DESCRIPTION:
SUMMARY:Fête du 1er août avec le conseiller aux Etats Franz Ruppen
ORGANIZER:
URL;VALUE=URI:https://www.udc.ch/actualites/agenda/fete-du-1er-aout-avec-le-conseiller-aux-etats-franz-ruppen/
TRANSP:OPAQUE
END:VEVENT
END:VCALENDAR
