

BEGIN:VCALENDAR
VERSION:2.0
PRODID:-//UDC Suisse //NONSGML Events //EN
CALSCALE:GREGORIAN
X-WR-CALNAME:UDC Suisse
BEGIN:VEVENT
CREATED:20230714T080114Z
UID:117054
DTEND:20230801T190000
DTSTART:20230801T180000
DTSTAMP:20260420T114623Z
LOCATION:Halle des Fêtes\, 2732 Reconvillier
DESCRIPTION:
SUMMARY:Fête du 1er août avec le conseiller aux Etats Pierre Alain Schnegg
ORGANIZER:
URL;VALUE=URI:https://www.udc.ch/actualites/agenda/fete-du-1er-aout-avec-le-conseiller-aux-etats-pierre-alain-schnegg/
TRANSP:OPAQUE
END:VEVENT
END:VCALENDAR
