

BEGIN:VCALENDAR
VERSION:2.0
PRODID:-//UDC Suisse //NONSGML Events //EN
CALSCALE:GREGORIAN
X-WR-CALNAME:UDC Suisse
BEGIN:VEVENT
CREATED:20230714T080114Z
UID:117055
DTEND:20230801T180000
DTSTART:20230801T173000
DTSTAMP:20260421T004459Z
LOCATION:Kirche Buchberg-Rüdlingen\, Buchberg
DESCRIPTION:
SUMMARY:Fête du 1er août avec la conseillère aux Etats Cornelia Stamm Hurter
ORGANIZER:
URL;VALUE=URI:https://www.udc.ch/actualites/agenda/fete-du-1er-aout-avec-la-conseillere-aux-etats-cornelia-stamm-hurter/
TRANSP:OPAQUE
END:VEVENT
END:VCALENDAR
