

BEGIN:VCALENDAR
VERSION:2.0
PRODID:-//UDC Suisse //NONSGML Events //EN
CALSCALE:GREGORIAN
X-WR-CALNAME:UDC Suisse
BEGIN:VEVENT
CREATED:20230714T080114Z
UID:117056
DTEND:20230801T110000
DTSTART:20230801T093000
DTSTAMP:20260421T042749Z
LOCATION:Landgasthof Schwert\, Hauptstrasse 7\, 8477 Stammheim
DESCRIPTION:
SUMMARY:Fête du 1er août avec le conseiller aux Etats Ernst Stocker
ORGANIZER:
URL;VALUE=URI:https://www.udc.ch/actualites/agenda/fete-du-1er-aout-avec-le-conseiller-aux-etats-ernst-stocker/
TRANSP:OPAQUE
END:VEVENT
END:VCALENDAR
