

BEGIN:VCALENDAR
VERSION:2.0
PRODID:-//UDC Suisse //NONSGML Events //EN
CALSCALE:GREGORIAN
X-WR-CALNAME:UDC Suisse
BEGIN:VEVENT
CREATED:20230714T080114Z
UID:117057
DTEND:20230801T181500
DTSTART:20230801T173000
DTSTAMP:20260420T190233Z
LOCATION:vor dem Gemeindesaal\, zur Mühle 4\, 8026 Kappel am Albis
DESCRIPTION:
SUMMARY:Fête du 1er août avec le conseiller aux Etats Ernst Stocker
ORGANIZER:
URL;VALUE=URI:https://www.udc.ch/actualites/agenda/fete-du-1er-aout-avec-le-conseiller-aux-etats-ernst-stocker-2/
TRANSP:OPAQUE
END:VEVENT
END:VCALENDAR
