

BEGIN:VCALENDAR
VERSION:2.0
PRODID:-//UDC Suisse //NONSGML Events //EN
CALSCALE:GREGORIAN
X-WR-CALNAME:UDC Suisse
BEGIN:VEVENT
CREATED:20230728T113218Z
UID:118372
DTEND:20230801T130000
DTSTART:20230801T120000
DTSTAMP:20260421T131605Z
LOCATION:Marché des Chandines\, Delley\, brunch à la ferme
DESCRIPTION:
SUMMARY:Fête du 1er août avec le conseiller d&rsquo\;Etat Philippe Demierre
ORGANIZER:
URL;VALUE=URI:https://www.udc.ch/actualites/agenda/fete-du-1er-aout-avec-le-conseiller-detat-philippe-demierre-3/
TRANSP:OPAQUE
END:VEVENT
END:VCALENDAR
