

BEGIN:VCALENDAR
VERSION:2.0
PRODID:-//UDC Suisse //NONSGML Events //EN
CALSCALE:GREGORIAN
X-WR-CALNAME:UDC Suisse
BEGIN:VEVENT
CREATED:20230728T113245Z
UID:118373
DTEND:20230801T220000
DTSTART:20230801T210000
DTSTAMP:20260421T061322Z
LOCATION:Billens-Hennens
DESCRIPTION:
SUMMARY:Fête du 1er août avec le conseiller d&rsquo\;Etat Philippe Demierre
ORGANIZER:
URL;VALUE=URI:https://www.udc.ch/actualites/agenda/fete-du-1er-aout-avec-le-conseiller-detat-philippe-demierre-4/
TRANSP:OPAQUE
END:VEVENT
END:VCALENDAR
