

BEGIN:VCALENDAR
VERSION:2.0
PRODID:-//UDC Suisse //NONSGML Events //EN
CALSCALE:GREGORIAN
X-WR-CALNAME:UDC Suisse
BEGIN:VEVENT
CREATED:20180613T143237Z
UID:11851
DTEND:20180615T190000
DTSTART:20180615T183000
DTSTAMP:20260420T153444Z
LOCATION:L'Union à Savièse\, Rue de Saint-Germain 23\, 1965 Savièse
DESCRIPTION:
SUMMARY:Rapport de session avec Jean-Luc Addor
ORGANIZER:
URL;VALUE=URI:https://www.udc.ch/actualites/agenda/rapport-de-session-avec-jean-luc-addor-3/
TRANSP:OPAQUE
END:VEVENT
END:VCALENDAR
