

BEGIN:VCALENDAR
VERSION:2.0
PRODID:-//UDC Suisse //NONSGML Events //EN
CALSCALE:GREGORIAN
X-WR-CALNAME:UDC Suisse
BEGIN:VEVENT
CREATED:20180613T143603Z
UID:11853
DTEND:20180619T200000
DTSTART:20180619T190000
DTSTAMP:20260420T172311Z
LOCATION:Buvette du Parlement vaudois\, Rue Cité-Devant 13\, 1005 Lausanne
DESCRIPTION:
SUMMARY:Rapport de session avec Michaël Buffat\, Alice Glauser\, Jean-Pierre Grin et Jacques Nicolet
ORGANIZER:
URL;VALUE=URI:https://www.udc.ch/actualites/agenda/rapport-de-session-avec-michael-buffat-alice-glauser-jean-pierre-grin-et-jacques-nicolet-3/
TRANSP:OPAQUE
END:VEVENT
END:VCALENDAR
