

BEGIN:VCALENDAR
VERSION:2.0
PRODID:-//UDC Suisse //NONSGML Events //EN
CALSCALE:GREGORIAN
X-WR-CALNAME:UDC Suisse
BEGIN:VEVENT
CREATED:20180613T144125Z
UID:11855
DTEND:20180705T110000
DTSTART:20180705T100000
DTSTAMP:20260421T023954Z
LOCATION:Bulle\, Marché folklorique
DESCRIPTION:
SUMMARY:Rapport de session avec Pierre-André Page et Jean-François Rime
ORGANIZER:
URL;VALUE=URI:https://www.udc.ch/actualites/agenda/rapport-de-session-avec-pierre-andre-page-et-jean-francois-rime-2/
TRANSP:OPAQUE
END:VEVENT
END:VCALENDAR
