BEGIN:VCALENDAR
VERSION:2.0
PRODID:-//UDC Suisse //NONSGML Events //EN
CALSCALE:GREGORIAN
X-WR-CALNAME:UDC Suisse
BEGIN:VEVENT
CREATED:20230818T074546Z
UID:119074
DTEND:20241124T000000
DTSTART:20241124T000000
DTSTAMP:20231021T132946Z
LOCATION:
DESCRIPTION:
SUMMARY:Votation fédérale
ORGANIZER:
URL;VALUE=URI:https://www.udc.ch/actualites/agenda/votation-federale-4/
TRANSP:OPAQUE
END:VEVENT
END:VCALENDAR
