

BEGIN:VCALENDAR
VERSION:2.0
PRODID:-//UDC Suisse //NONSGML Events //EN
CALSCALE:GREGORIAN
X-WR-CALNAME:UDC Suisse
BEGIN:VEVENT
CREATED:20230818T074546Z
UID:119075
DTEND:20240127T000000
DTSTART:20240127T000000
DTSTAMP:20260419T164615Z
LOCATION:UR
DESCRIPTION:
SUMMARY:Assemblé des délégués
ORGANIZER:
URL;VALUE=URI:https://www.udc.ch/actualites/agenda/assemble-des-delegues/
TRANSP:OPAQUE
END:VEVENT
END:VCALENDAR
