BEGIN:VCALENDAR
VERSION:2.0
PRODID:-//UDC Suisse //NONSGML Events //EN
CALSCALE:GREGORIAN
X-WR-CALNAME:UDC Suisse
BEGIN:VEVENT
CREATED:20230818T074546Z
UID:119079
DTEND:20240126T000000
DTSTART:20240126T000000
DTSTAMP:20231021T135709Z
LOCATION:UR
DESCRIPTION:
SUMMARY:Comité de parti / direction du parti 
ORGANIZER:
URL;VALUE=URI:https://www.udc.ch/actualites/agenda/comite-de-parti-direction-du-parti/
TRANSP:OPAQUE
END:VEVENT
END:VCALENDAR
