

BEGIN:VCALENDAR
VERSION:2.0
PRODID:-//UDC Suisse //NONSGML Events //EN
CALSCALE:GREGORIAN
X-WR-CALNAME:UDC Suisse
BEGIN:VEVENT
CREATED:20230818T074546Z
UID:119082
DTEND:20241011T000000
DTSTART:20241011T000000
DTSTAMP:20260420T153409Z
LOCATION:AG
DESCRIPTION:
SUMMARY:Comité de parti / direction du parti 
ORGANIZER:
URL;VALUE=URI:https://www.udc.ch/actualites/agenda/comite-de-parti-direction-du-parti-4/
TRANSP:OPAQUE
END:VEVENT
END:VCALENDAR
