BEGIN:VCALENDAR
VERSION:2.0
PRODID:-//UDC Suisse //NONSGML Events //EN
CALSCALE:GREGORIAN
X-WR-CALNAME:UDC Suisse
BEGIN:VEVENT
CREATED:20230818T074547Z
UID:119086
DTEND:20241220T000000
DTSTART:20241202T000000
DTSTAMP:20231021T135043Z
LOCATION:Bern
DESCRIPTION:
SUMMARY:Session parlementaires 
ORGANIZER:
URL;VALUE=URI:https://www.udc.ch/actualites/agenda/session-parlementaires-4/
TRANSP:OPAQUE
END:VEVENT
END:VCALENDAR
