

BEGIN:VCALENDAR
VERSION:2.0
PRODID:-//UDC Suisse //NONSGML Events //EN
CALSCALE:GREGORIAN
X-WR-CALNAME:UDC Suisse
BEGIN:VEVENT
CREATED:20230818T074547Z
UID:119089
DTEND:20240311T000000
DTSTART:20240311T000000
DTSTAMP:20260420T194722Z
LOCATION:Bern
DESCRIPTION:
SUMMARY:Rencontre du groupe parlementaire avec les juges fédéraux 
ORGANIZER:
URL;VALUE=URI:https://www.udc.ch/actualites/agenda/rencontre-du-groupe-parlementaire-avec-les-juges-federaux/
TRANSP:OPAQUE
END:VEVENT
END:VCALENDAR
