

BEGIN:VCALENDAR
VERSION:2.0
PRODID:-//UDC Suisse //NONSGML Events //EN
CALSCALE:GREGORIAN
X-WR-CALNAME:UDC Suisse
BEGIN:VEVENT
CREATED:20230818T074547Z
UID:119090
DTEND:20230504T000000
DTSTART:20230504T000000
DTSTAMP:20260421T004811Z
LOCATION:Zürich
DESCRIPTION:
SUMMARY:Rencontre avec les Conseillers d’Etats 
ORGANIZER:
URL;VALUE=URI:https://www.udc.ch/actualites/agenda/rencontre-avec-les-conseillers-detats/
TRANSP:OPAQUE
END:VEVENT
END:VCALENDAR
