

BEGIN:VCALENDAR
VERSION:2.0
PRODID:-//UDC Suisse //NONSGML Events //EN
CALSCALE:GREGORIAN
X-WR-CALNAME:UDC Suisse
BEGIN:VEVENT
CREATED:20230818T074547Z
UID:119091
DTEND:20240907T000000
DTSTART:20240906T000000
DTSTAMP:20260421T010943Z
LOCATION:
DESCRIPTION:
SUMMARY:Conférence des présidents de parti\, secrétaires et présidents de groupe cantonaux 
ORGANIZER:
URL;VALUE=URI:https://www.udc.ch/actualites/agenda/conference-des-presidents-de-parti-secretaires-et-presidents-de-groupe-cantonaux/
TRANSP:OPAQUE
END:VEVENT
END:VCALENDAR
