

BEGIN:VCALENDAR
VERSION:2.0
PRODID:-//UDC Suisse //NONSGML Events //EN
CALSCALE:GREGORIAN
X-WR-CALNAME:UDC Suisse
BEGIN:VEVENT
CREATED:20230818T074547Z
UID:119092
DTEND:20240216T000000
DTSTART:20240216T000000
DTSTAMP:20260421T061329Z
LOCATION:UR
DESCRIPTION:
SUMMARY:Séance du groupe parlementaire
ORGANIZER:
URL;VALUE=URI:https://www.udc.ch/actualites/agenda/seance-du-groupe-parlementaire/
TRANSP:OPAQUE
END:VEVENT
END:VCALENDAR
