

BEGIN:VCALENDAR
VERSION:2.0
PRODID:-//UDC Suisse //NONSGML Events //EN
CALSCALE:GREGORIAN
X-WR-CALNAME:UDC Suisse
BEGIN:VEVENT
CREATED:20230818T074548Z
UID:119101
DTEND:20240604T000000
DTSTART:20240604T000000
DTSTAMP:20260421T042358Z
LOCATION:
DESCRIPTION:
SUMMARY:Séance du groupe parlementaire
ORGANIZER:
URL;VALUE=URI:https://www.udc.ch/actualites/agenda/seance-du-groupe-parlementaire-10/
TRANSP:OPAQUE
END:VEVENT
END:VCALENDAR
