BEGIN:VCALENDAR
VERSION:2.0
PRODID:-//UDC Suisse //NONSGML Events //EN
CALSCALE:GREGORIAN
X-WR-CALNAME:UDC Suisse
BEGIN:VEVENT
CREATED:20230818T074548Z
UID:119113
DTEND:20240216T000000
DTSTART:20240216T000000
DTSTAMP:20231021T130242Z
LOCATION:
DESCRIPTION:
SUMMARY:Présidence du groupe 
ORGANIZER:
URL;VALUE=URI:https://www.udc.ch/actualites/agenda/presidence-du-groupe/
TRANSP:OPAQUE
END:VEVENT
END:VCALENDAR
