

BEGIN:VCALENDAR
VERSION:2.0
PRODID:-//UDC Suisse //NONSGML Events //EN
CALSCALE:GREGORIAN
X-WR-CALNAME:UDC Suisse
BEGIN:VEVENT
CREATED:20230818T074548Z
UID:119114
DTEND:20240517T000000
DTSTART:20240517T000000
DTSTAMP:20260421T042654Z
LOCATION:SH
DESCRIPTION:
SUMMARY:Présidence du groupe 
ORGANIZER:
URL;VALUE=URI:https://www.udc.ch/actualites/agenda/presidence-du-groupe-2/
TRANSP:OPAQUE
END:VEVENT
END:VCALENDAR
