BEGIN:VCALENDAR
VERSION:2.0
PRODID:-//UDC Suisse //NONSGML Events //EN
CALSCALE:GREGORIAN
X-WR-CALNAME:UDC Suisse
BEGIN:VEVENT
CREATED:20230818T074549Z
UID:119117
DTEND:20240227T000000
DTSTART:20240227T000000
DTSTAMP:20231021T133815Z
LOCATION:
DESCRIPTION:
SUMMARY:Comité du groupe 
ORGANIZER:
URL;VALUE=URI:https://www.udc.ch/actualites/agenda/comite-du-groupe/
TRANSP:OPAQUE
END:VEVENT
END:VCALENDAR
