BEGIN:VCALENDAR
VERSION:2.0
PRODID:-//UDC Suisse //NONSGML Events //EN
CALSCALE:GREGORIAN
X-WR-CALNAME:UDC Suisse
BEGIN:VEVENT
CREATED:20230818T074549Z
UID:119121
DTEND:20240106T000000
DTSTART:20240105T000000
DTSTAMP:20231021T130518Z
LOCATION:Bad Horn
DESCRIPTION:
SUMMARY:Séminaire à «Bad Horn» 
ORGANIZER:
URL;VALUE=URI:https://www.udc.ch/actualites/agenda/seminaire-a-bad-horn/
TRANSP:OPAQUE
END:VEVENT
END:VCALENDAR
