

BEGIN:VCALENDAR
VERSION:2.0
PRODID:-//UDC Suisse //NONSGML Events //EN
CALSCALE:GREGORIAN
X-WR-CALNAME:UDC Suisse
BEGIN:VEVENT
CREATED:20230818T074549Z
UID:119124
DTEND:20240923T000000
DTSTART:20240923T000000
DTSTAMP:20260421T061320Z
LOCATION:
DESCRIPTION:
SUMMARY:Séance des leader 
ORGANIZER:
URL;VALUE=URI:https://www.udc.ch/actualites/agenda/seance-des-leader-3/
TRANSP:OPAQUE
END:VEVENT
END:VCALENDAR
