

BEGIN:VCALENDAR
VERSION:2.0
PRODID:-//UDC Suisse //NONSGML Events //EN
CALSCALE:GREGORIAN
X-WR-CALNAME:UDC Suisse
BEGIN:VEVENT
CREATED:20230818T074549Z
UID:119127
DTEND:20240605T000000
DTSTART:20240605T000000
DTSTAMP:20260420T153430Z
LOCATION:
DESCRIPTION:
SUMMARY:Excursion du groupe 
ORGANIZER:
URL;VALUE=URI:https://www.udc.ch/actualites/agenda/excursion-du-groupe-7/
TRANSP:OPAQUE
END:VEVENT
END:VCALENDAR
