

BEGIN:VCALENDAR
VERSION:2.0
PRODID:-//UDC Suisse //NONSGML Events //EN
CALSCALE:GREGORIAN
X-WR-CALNAME:UDC Suisse
BEGIN:VEVENT
CREATED:20230912T104748Z
UID:120758
DTEND:20230914T000000
DTSTART:20230914T000000
DTSTAMP:20260420T230213Z
LOCATION:
DESCRIPTION:Pour plus d'informations, visitez https://udc-vaud.ch/events/
SUMMARY:UDC VD: Repas de soutien d’Eric Bonjour\, Stade de la Tuilière Lausanne
ORGANIZER:
URL;VALUE=URI:https://www.udc.ch/actualites/agenda/udc-vd-repas-de-soutien-deric-bonjour-stade-de-la-tuiliere-lausanne/
TRANSP:OPAQUE
END:VEVENT
END:VCALENDAR
