

BEGIN:VCALENDAR
VERSION:2.0
PRODID:-//UDC Suisse //NONSGML Events //EN
CALSCALE:GREGORIAN
X-WR-CALNAME:UDC Suisse
BEGIN:VEVENT
CREATED:20230912T104748Z
UID:120761
DTEND:20230922T000000
DTSTART:20230922T000000
DTSTAMP:20260420T190330Z
LOCATION:Orbe
DESCRIPTION:Pour plus d'informations, visitez https://udc-vaud.ch/events/
SUMMARY:UDC VD: Fête de la saucisse aux choux à Orbe
ORGANIZER:
URL;VALUE=URI:https://www.udc.ch/actualites/agenda/udc-vd-fete-de-la-saucisse-aux-choux-a-orbe/
TRANSP:OPAQUE
END:VEVENT
END:VCALENDAR
