

BEGIN:VCALENDAR
VERSION:2.0
PRODID:-//UDC Suisse //NONSGML Events //EN
CALSCALE:GREGORIAN
X-WR-CALNAME:UDC Suisse
BEGIN:VEVENT
CREATED:20230912T104748Z
UID:120764
DTEND:20230923T000000
DTSTART:20230923T000000
DTSTAMP:20260420T191512Z
LOCATION:Charbonnières
DESCRIPTION:Pour plus d'informations, visitez https://udc-vaud.ch/events/
SUMMARY:UDC VD: Fête du vacherin Mont d’Or avec Guy Parmelin aux Charbonnières
ORGANIZER:
URL;VALUE=URI:https://www.udc.ch/actualites/agenda/udc-vd-fete-du-vacherin-mont-dor-avec-guy-parmelin-aux-charbonnieres/
TRANSP:OPAQUE
END:VEVENT
END:VCALENDAR
