

BEGIN:VCALENDAR
VERSION:2.0
PRODID:-//UDC Suisse //NONSGML Events //EN
CALSCALE:GREGORIAN
X-WR-CALNAME:UDC Suisse
BEGIN:VEVENT
CREATED:20230912T104749Z
UID:120765
DTEND:20230929T000000
DTSTART:20230929T000000
DTSTAMP:20260421T145755Z
LOCATION:Thierrens
DESCRIPTION:Pour plus d'informations, visitez https://udc-vaud.ch/events/
SUMMARY:UDC VD: Repas de soutien de l’UDC Vaud à Thierrens
ORGANIZER:
URL;VALUE=URI:https://www.udc.ch/actualites/agenda/udc-vd-repas-de-soutien-de-ludc-vaud-a-thierrens/
TRANSP:OPAQUE
END:VEVENT
END:VCALENDAR
