

BEGIN:VCALENDAR
VERSION:2.0
PRODID:-//UDC Suisse //NONSGML Events //EN
CALSCALE:GREGORIAN
X-WR-CALNAME:UDC Suisse
BEGIN:VEVENT
CREATED:20230912T104749Z
UID:120766
DTEND:20230930T000000
DTSTART:20230930T000000
DTSTAMP:20260420T205711Z
LOCATION:Etivaz
DESCRIPTION:Pour plus d'informations, visitez https://udc-vaud.ch/events/
SUMMARY:UDC VD: Désalpe à l’Etivaz
ORGANIZER:
URL;VALUE=URI:https://www.udc.ch/actualites/agenda/udc-vd-desalpe-a-letivaz/
TRANSP:OPAQUE
END:VEVENT
END:VCALENDAR
