

BEGIN:VCALENDAR
VERSION:2.0
PRODID:-//UDC Suisse //NONSGML Events //EN
CALSCALE:GREGORIAN
X-WR-CALNAME:UDC Suisse
BEGIN:VEVENT
CREATED:20230912T104749Z
UID:120767
DTEND:20231007T000000
DTSTART:20231007T000000
DTSTAMP:20260420T190258Z
LOCATION:Ferme Praz-Romond
DESCRIPTION:Pour plus d'informations, visitez https://udc-vaud.ch/events/
SUMMARY:UDC VD: La nuit du vin cuit à la Ferme Praz-Romond avec les candidats du district Lavaux-Oron lors de l’apéro
ORGANIZER:
URL;VALUE=URI:https://www.udc.ch/actualites/agenda/udc-vd-la-nuit-du-vin-cuit-a-la-ferme-praz-romond-avec-les-candidats-du-district-lavaux-oron-lors-de-lapero/
TRANSP:OPAQUE
END:VEVENT
END:VCALENDAR
