

BEGIN:VCALENDAR
VERSION:2.0
PRODID:-//UDC Suisse //NONSGML Events //EN
CALSCALE:GREGORIAN
X-WR-CALNAME:UDC Suisse
BEGIN:VEVENT
CREATED:20230912T104749Z
UID:120768
DTEND:20231008T000000
DTSTART:20231008T000000
DTSTAMP:20260421T094328Z
LOCATION:Dompierre sur Lucens
DESCRIPTION:Pour plus d'informations, visitez https://udc-vaud.ch/events/
SUMMARY:UDC VD: Brunch de soutien A. Cornamusaz &#038\; Ph. Liniger\, Dompierre sur Lucens
ORGANIZER:
URL;VALUE=URI:https://www.udc.ch/actualites/agenda/udc-vd-brunch-de-soutien-a-cornamusaz-ph-liniger-dompierre-sur-lucens/
TRANSP:OPAQUE
END:VEVENT
END:VCALENDAR
