

BEGIN:VCALENDAR
VERSION:2.0
PRODID:-//UDC Suisse //NONSGML Events //EN
CALSCALE:GREGORIAN
X-WR-CALNAME:UDC Suisse
BEGIN:VEVENT
CREATED:20230912T104749Z
UID:120769
DTEND:20231009T000000
DTSTART:20231009T000000
DTSTAMP:20260421T004414Z
LOCATION:
DESCRIPTION:Pour plus d'informations, visitez https://udc-vaud.ch/events/
SUMMARY:UDC VD: Visite de l’entreprise Friderici\, inscription auprès d’Eric Bonjour
ORGANIZER:
URL;VALUE=URI:https://www.udc.ch/actualites/agenda/udc-vd-visite-de-lentreprise-friderici-inscription-aupres-deric-bonjour/
TRANSP:OPAQUE
END:VEVENT
END:VCALENDAR
