

BEGIN:VCALENDAR
VERSION:2.0
PRODID:-//UDC Suisse //NONSGML Events //EN
CALSCALE:GREGORIAN
X-WR-CALNAME:UDC Suisse
BEGIN:VEVENT
CREATED:20230912T104749Z
UID:120770
DTEND:20231023T000000
DTSTART:20231023T000000
DTSTAMP:20260421T042614Z
LOCATION:Vuillens
DESCRIPTION:Pour plus d'informations, visitez https://udc-vaud.ch/events/
SUMMARY:UDC VD: Congrès\, Vuillens\, district Broye-Vully
ORGANIZER:
URL;VALUE=URI:https://www.udc.ch/actualites/agenda/udc-vd-congres-vuillens-district-broye-vully/
TRANSP:OPAQUE
END:VEVENT
END:VCALENDAR
