

BEGIN:VCALENDAR
VERSION:2.0
PRODID:-//UDC Suisse //NONSGML Events //EN
CALSCALE:GREGORIAN
X-WR-CALNAME:UDC Suisse
BEGIN:VEVENT
CREATED:20231029T011546Z
UID:120792
DTEND:20231029T001500
DTSTART:20230113T000000
DTSTAMP:20260423T091012Z
LOCATION:Broye
DESCRIPTION:
SUMMARY:UDC FR: Nouvel-an UDC-FR
ORGANIZER:
URL;VALUE=URI:https://www.udc.ch/actualites/agenda/udc-fr-nouvel-an-udc-fr/
TRANSP:OPAQUE
END:VEVENT
END:VCALENDAR
