

BEGIN:VCALENDAR
VERSION:2.0
PRODID:-//UDC Suisse //NONSGML Events //EN
CALSCALE:GREGORIAN
X-WR-CALNAME:UDC Suisse
BEGIN:VEVENT
CREATED:20231029T011546Z
UID:120793
DTEND:20230429T160000
DTSTART:20230428T080000
DTSTAMP:20260420T153419Z
LOCATION:
DESCRIPTION:
SUMMARY:UDC FR: Conférence Présidents\, présidents de groupe et secrétaires cantonaux
ORGANIZER:
URL;VALUE=URI:https://www.udc.ch/actualites/agenda/udc-fr-conference-presidents-presidents-de-groupe-et-secretaires-cantonaux/
TRANSP:OPAQUE
END:VEVENT
END:VCALENDAR
