

BEGIN:VCALENDAR
VERSION:2.0
PRODID:-//UDC Suisse //NONSGML Events //EN
CALSCALE:GREGORIAN
X-WR-CALNAME:UDC Suisse
BEGIN:VEVENT
CREATED:20231029T011546Z
UID:120796
DTEND:20231029T001500
DTSTART:20230629T200000
DTSTAMP:20260420T172326Z
LOCATION:
DESCRIPTION:
SUMMARY:UDC JU: Assemblée ordinaire UDC Jura (candidats)
ORGANIZER:
URL;VALUE=URI:https://www.udc.ch/actualites/agenda/udc-ju-assemblee-ordinaire-udc-jura-candidats/
TRANSP:OPAQUE
END:VEVENT
END:VCALENDAR
