BEGIN:VCALENDAR
VERSION:2.0
PRODID:-//UDC Suisse //NONSGML Events //EN
CALSCALE:GREGORIAN
X-WR-CALNAME:UDC Suisse
BEGIN:VEVENT
CREATED:20231021T121549Z
UID:120797
DTEND:20231021T121500
DTSTART:20231117T200000
DTSTAMP:20231021T130434Z
LOCATION:
DESCRIPTION:
SUMMARY:UDC JU: Assemblée ordinaire UDC Jura
ORGANIZER:
URL;VALUE=URI:https://www.udc.ch/actualites/agenda/udc-ju-assemblee-ordinaire-udc-jura/
TRANSP:OPAQUE
END:VEVENT
END:VCALENDAR
