

BEGIN:VCALENDAR
VERSION:2.0
PRODID:-//UDC Suisse //NONSGML Events //EN
CALSCALE:GREGORIAN
X-WR-CALNAME:UDC Suisse
BEGIN:VEVENT
CREATED:20230914T063141Z
UID:120929
DTEND:20230919T200000
DTSTART:20230919T180000
DTSTAMP:20260420T225445Z
LOCATION:La Ferme\, Route de Chancy 132\, 1213 Onex
DESCRIPTION:
SUMMARY:UDC GE: Apéros-échanges avec Céline Amaudruz et les candidats UDC au Conseil national
ORGANIZER:
URL;VALUE=URI:https://www.udc.ch/actualites/agenda/udc-ge-aperos-echanges-avec-celine-amaudruz-et-les-candidats-udc-au-conseil-national/
TRANSP:OPAQUE
END:VEVENT
END:VCALENDAR
