

BEGIN:VCALENDAR
VERSION:2.0
PRODID:-//UDC Suisse //NONSGML Events //EN
CALSCALE:GREGORIAN
X-WR-CALNAME:UDC Suisse
BEGIN:VEVENT
CREATED:20230914T112718Z
UID:120940
DTEND:20231002T200000
DTSTART:20231002T180000
DTSTAMP:20260423T090906Z
LOCATION:Auberge de Vandœuvres Route de Choulex 2\, 1253 Vandoeuvres
DESCRIPTION:
SUMMARY:UDC GE: Apéros-échanges avec Céline Amaudruz et les candidats UDC au Conseil national
ORGANIZER:
URL;VALUE=URI:https://www.udc.ch/actualites/agenda/udc-ge-aperos-echanges-avec-celine-amaudruz-et-les-candidats-udc-au-conseil-national-3/
TRANSP:OPAQUE
END:VEVENT
END:VCALENDAR
