

BEGIN:VCALENDAR
VERSION:2.0
PRODID:-//UDC Suisse //NONSGML Events //EN
CALSCALE:GREGORIAN
X-WR-CALNAME:UDC Suisse
BEGIN:VEVENT
CREATED:20230914T112623Z
UID:120957
DTEND:20231007T120000
DTSTART:20231007T110000
DTSTAMP:20260421T131729Z
LOCATION:Halle de Rive\, 1207 Genève
DESCRIPTION:
SUMMARY:UDC GE: Apéros-échanges avec Céline Amaudruz et les candidats UDC au Conseil national
ORGANIZER:
URL;VALUE=URI:https://www.udc.ch/actualites/agenda/udc-ge-aperos-echanges-avec-celine-amaudruz-et-les-candidats-udc-au-conseil-national-2/
TRANSP:OPAQUE
END:VEVENT
END:VCALENDAR
