

BEGIN:VCALENDAR
VERSION:2.0
PRODID:-//UDC Suisse //NONSGML Events //EN
CALSCALE:GREGORIAN
X-WR-CALNAME:UDC Suisse
BEGIN:VEVENT
CREATED:20230914T112945Z
UID:120962
DTEND:T200000
DTSTART:T180000
DTSTAMP:20260421T042543Z
LOCATION:Restaurant le Bistro\, Place du Petit-Saconnex 4\, 1209 Genève
DESCRIPTION:
SUMMARY:UDC GE: Apéros-échanges avec Céline Amaudruz et les candidats UDC au Conseil national
ORGANIZER:
URL;VALUE=URI:https://www.udc.ch/actualites/agenda/udc-ge-aperos-echanges-avec-celine-amaudruz-et-les-candidats-udc-au-conseil-national-4/
TRANSP:OPAQUE
END:VEVENT
END:VCALENDAR
