

BEGIN:VCALENDAR
VERSION:2.0
PRODID:-//UDC Suisse //NONSGML Events //EN
CALSCALE:GREGORIAN
X-WR-CALNAME:UDC Suisse
BEGIN:VEVENT
CREATED:20230914T113114Z
UID:120964
DTEND:20231004T200000
DTSTART:20231004T180000
DTSTAMP:20260420T225505Z
LOCATION:Café Art\, Esplanade des Récréations 18\, 1217 Meyrin
DESCRIPTION:
SUMMARY:UDC GE: Apéros-échanges avec Céline Amaudruz et les candidats UDC au Conseil national
ORGANIZER:
URL;VALUE=URI:https://www.udc.ch/actualites/agenda/udc-ge-aperos-echanges-avec-celine-amaudruz-et-les-candidats-udc-au-conseil-national-5/
TRANSP:OPAQUE
END:VEVENT
END:VCALENDAR
